Felt | Verdi |
AlreadyApplied | True |
Aperture | 8.0 |
ApertureValue | 8.0 |
ApproximateFocusDistance | 2.66 |
AutoLateralCA | 0 |
BitsPerSample | 8 |
Blacks2012 | -8 |
BlueHue | 0 |
BlueSaturation | 0 |
CameraProfile | Adobe Standard |
CFAPattern | [Red,Green][Green,Blue] |
CircleOfConfusion | 0.030 mm |
Clarity2012 | 0 |
ColorComponents | 1 |
ColorNoiseReduction | 25 |
ColorNoiseReductionDetail | 50 |
ColorTemperature | 5050 |
Contrast | Normal |
Contrast2012 | +30 |
ConvertToGrayscale | True |
CreateDate (1) | 2013:08:11 16:31:46.90 |
CreateDate | 2013:08:11 16:31:46 |
CreatorTool | Adobe Photoshop Lightroom 4.4 (Macintosh) |
CropAngle | 0 |
CropBottom | 1 |
CropConstrainToWarp | 0 |
CropHeight | 2041 |
CropLeft | 0 |
CropRight | 0.954557 |
CropTop | 0.027253 |
CropUnit | pixels |
CropWidth | 3000 |
CustomRendered | Custom |
DateCreated (1) | 2013:08:11 |
DateCreated | 2013:08:11 16:31:46.90 |
DateTimeOriginal | 2013:08:11 16:31:46 |
DigitalZoomRatio | 1 |
DOF | 0.46 m (2.45 - 2.91 m) |
Exposure2012 | 0.00 |
ExposureCompensation | 0 |
ExposureMode | Manual |
ExposureProgram | Manual |
ExposureTime | 1/200 |
Flash | On, Return not detected |
FNumber | 8.0 |
FocalLength | 85.0 mm |
FocalLength35efl | 85.0 mm (35 mm equivalent: 85.0 mm) |
FocalLengthIn35mmFormat | 85 mm |
Format | image/jpeg |
FOV | 23.9 deg |
GainControl | None |
GrainAmount | 0 |
GrayMixerAqua | -21 |
GrayMixerBlue | +3 |
GrayMixerGreen | -22 |
GrayMixerMagenta | +7 |
GrayMixerOrange | +40 |
GrayMixerPurple | +13 |
GrayMixerRed | +31 |
GrayMixerYellow | +40 |
GreenHue | 0 |
GreenSaturation | 0 |
HasCrop | True |
HasSettings | True |
Highlights2012 | -7 |
HyperfocalDistance | 30.06 m |
ImageHeight | 800 |
ImageNumber | 26452 |
ImageSize | 545x800 |
ImageWidth | 545 |
ISO | 100 |
Lens | 85.0 mm f/1.4 |
LensID (1) | 147 |
LensID | AF-S Zoom-Nikkor 24-70mm f/2.8G ED |
LensInfo | 85mm f/1.4 |
LensManualDistortionAmount | 0 |
LensModel | 85.0 mm f/1.4 |
LensProfileEnable | 0 |
LensProfileSetup | LensDefaults |
LightSource | Unknown |
LightValue | 13.6 |
LuminanceSmoothing | 0 |
Make | NIKON CORPORATION |
MaxApertureValue | 1.4 |
Megapixels | 0.436 |
MeteringMode | Center-weighted average |
Model | NIKON D600 |
ModifyDate (1) | 2013:08:11 17:24:37+02:00 |
ModifyDate | 2013:08:11 17:24:37 |
ParametricDarks | +17 |
ParametricHighlights | 0 |
ParametricHighlightSplit | 75 |
ParametricLights | -35 |
ParametricMidtoneSplit | 50 |
ParametricShadows | +25 |
ParametricShadowSplit | 25 |
PerspectiveHorizontal | 0 |
PerspectiveRotate | 0.0 |
PerspectiveScale | 100 |
PerspectiveVertical | 0 |
PostCropVignetteAmount | 0 |
ProcessVersion | 6.7 |
ProfileDescription | sRGB IEC61966-2.1 |
RedHue | 0 |
RedSaturation | 0 |
Saturation | Normal |
ScaleFactor35efl | 1.0 |
SceneCaptureType | Standard |
SceneType | Directly photographed |
SensingMethod | One-chip color area |
SensitivityType | Recommended Exposure Index |
SerialNumber | 6036796 |
Shadows2012 | +35 |
ShadowTint | 0 |
SharpenDetail | 25 |
SharpenEdgeMasking | 0 |
SharpenRadius | +1.0 |
Sharpness (1) | 25 |
Sharpness | Normal |
ShutterSpeed | 1/200 |
ShutterSpeedValue | 1/200 |
Software | Adobe Photoshop Lightroom 4.4 (Macintosh) |
SplitToningBalance | 0 |
SplitToningHighlightHue | 0 |
SplitToningHighlightSaturation | 0 |
SplitToningShadowHue | 0 |
SplitToningShadowSaturation | 0 |
SubjectDistanceRange | Unknown |
Tint | +1 |
ToneCurveName2012 | Strong Contrast |
ToneCurvePV2012 | 0, 0, 32, 16, 64, 50, 128, 128, 192, 202, 255, 255 |
ToneCurvePV2012Blue | 0, 0, 255, 255 |
ToneCurvePV2012Green | 0, 0, 255, 255 |
ToneCurvePV2012Red | 0, 0, 255, 255 |
Version | 7.4 |
VignetteAmount | 0 |
WhiteBalance (1) | As Shot |
WhiteBalance | Auto |
Whites2012 | +11 |