Felt | Verdi |
AlreadyApplied | True |
Aperture | 4.0 |
ApertureValue | 4.0 |
ApproximateFocusDistance | 0.44 |
Artist | Frode Edvindsen |
AutoLateralCA | 0 |
BitsPerSample | 8 |
Blacks2012 | +43 |
BlueHue | 0 |
BlueSaturation | 0 |
By-line | Frode Edvindsen |
CameraProfile | Adobe Standard |
CircleOfConfusion | 0.019 mm |
Clarity2012 | 0 |
ColorComponents | 3 |
ColorNoiseReduction | 25 |
ColorNoiseReductionDetail | 50 |
ColorTemperature | 5350 |
Contrast2012 | +54 |
ConvertToGrayscale | False |
Copyright | E-mail:frode.edvindsen@yahoo.no |
CopyrightNotice | E-mail:frode.edvindsen@yahoo.no |
CreateDate (1) | 2013:10:17 13:43:08.38 |
CreateDate | 2013:10:17 13:43:08 |
Creator | Frode Edvindsen |
CreatorTool | Adobe Photoshop Lightroom 4.4 (Macintosh) |
CropAngle | 0 |
CropBottom | 0.993697 |
CropConstrainToWarp | 0 |
CropHeight | 3116 |
CropLeft | 0.032161 |
CropRight | 0.933842 |
CropTop | 0.092017 |
CropUnit | pixels |
CropWidth | 4674 |
CustomRendered | Normal |
DateCreated (1) | 2013:10:17 |
DateCreated | 2013:10:17 13:43:08.38 |
DateTimeOriginal | 2013:10:17 13:43:08 |
DefringeGreenAmount | 0 |
DefringeGreenHueHi | 60 |
DefringeGreenHueLo | 40 |
DefringePurpleAmount | 0 |
DefringePurpleHueHi | 70 |
DefringePurpleHueLo | 30 |
DOF | 0.001 m (0.440 - 0.440 m) |
Exposure2012 | +1.00 |
ExposureCompensation | 0 |
ExposureMode | Manual |
ExposureProgram | Manual |
ExposureTime | 1/25 |
Firmware | 2.0.3 |
Flash | Off, Did not fire |
FlashCompensation | 0 |
FNumber | 4.0 |
FocalLength | 150.0 mm |
FocalLength35efl | 150.0 mm (35 mm equivalent: 235.5 mm) |
Format | image/jpeg |
FOV | 8.7 deg |
GrainAmount | 0 |
GreenHue | 0 |
GreenSaturation | 0 |
HasCrop | True |
HasSettings | True |
Highlights2012 | 0 |
HueAdjustmentAqua | 0 |
HueAdjustmentBlue | 0 |
HueAdjustmentGreen | 0 |
HueAdjustmentMagenta | 0 |
HueAdjustmentOrange | 0 |
HueAdjustmentPurple | 0 |
HueAdjustmentRed | 0 |
HueAdjustmentYellow | 0 |
HyperfocalDistance | 293.98 m |
ImageHeight | 3116 |
ImageNumber | 0 |
ImageSize | 4674x3116 |
ImageWidth | 4674 |
ISO | 100 |
Lens | 150mm |
LensID (1) | 173 |
LensID | Sigma APO Macro 150mm f/2.8 EX DG HSM |
LensInfo | 150mm f/? |
LensManualDistortionAmount | 0 |
LensModel | 150mm |
LensProfileEnable | 0 |
LensProfileSetup | LensDefaults |
LightValue | 8.6 |
LuminanceAdjustmentAqua | 0 |
LuminanceAdjustmentBlue | 0 |
LuminanceAdjustmentGreen | 0 |
LuminanceAdjustmentMagenta | 0 |
LuminanceAdjustmentOrange | 0 |
LuminanceAdjustmentPurple | 0 |
LuminanceAdjustmentRed | 0 |
LuminanceAdjustmentYellow | 0 |
LuminanceSmoothing | 0 |
Make | Canon |
MaxApertureValue | 2.8 |
Megapixels | 14.6 |
MeteringMode | Spot |
Model | Canon EOS 7D |
ModifyDate (1) | 2013:10:17 23:06:31+02:00 |
ModifyDate | 2013:10:17 23:06:31 |
ParametricDarks | 0 |
ParametricHighlights | 0 |
ParametricHighlightSplit | 75 |
ParametricLights | 0 |
ParametricMidtoneSplit | 50 |
ParametricShadows | 0 |
ParametricShadowSplit | 25 |
PerspectiveHorizontal | 0 |
PerspectiveRotate | 0.0 |
PerspectiveScale | 100 |
PerspectiveVertical | 0 |
PostCropVignetteAmount | 0 |
ProcessVersion | 6.7 |
ProfileDescription | sRGB IEC61966-2.1 |
RecommendedExposureIndex | 100 |
RedHue | 0 |
RedSaturation | 0 |
Rights | E-mail:frode.edvindsen@yahoo.no |
Saturation | 0 |
SaturationAdjustmentAqua | 0 |
SaturationAdjustmentBlue | 0 |
SaturationAdjustmentGreen | 0 |
SaturationAdjustmentMagenta | 0 |
SaturationAdjustmentOrange | 0 |
SaturationAdjustmentPurple | 0 |
SaturationAdjustmentRed | 0 |
SaturationAdjustmentYellow | 0 |
ScaleFactor35efl | 1.6 |
SceneCaptureType | Standard |
SensitivityType | Recommended Exposure Index |
SerialNumber | 2581203255 |
Shadows2012 | +77 |
ShadowTint | 0 |
SharpenDetail | 25 |
SharpenEdgeMasking | 0 |
SharpenRadius | +1.0 |
Sharpness | 25 |
ShutterSpeed | 1/25 |
ShutterSpeedValue | 1/25 |
Software | Adobe Photoshop Lightroom 4.4 (Macintosh) |
SplitToningBalance | 0 |
SplitToningHighlightHue | 0 |
SplitToningHighlightSaturation | 0 |
SplitToningShadowHue | 0 |
SplitToningShadowSaturation | 0 |
Tint | +14 |
ToneCurveName2012 | Custom |
ToneCurvePV2012 | 0, 255, 255, 0 |
ToneCurvePV2012Blue | 0, 0, 255, 255 |
ToneCurvePV2012Green | 0, 0, 255, 255 |
ToneCurvePV2012Red | 0, 0, 255, 255 |
Version | 7.4 |
Vibrance | 0 |
VignetteAmount | 0 |
WhiteBalance (1) | As Shot |
WhiteBalance | Auto |
Whites2012 | +23 |